Workbook

Sheet NAICS
A1: naics | B1: naicsdesc
D2: > 250 employees company-wide
A3: 111 | B3: Crop Production | D3: < 250 employees company-wide
A4: 1111 | B4: Oilseed and Grain Farming
A5: 11111 | B5: Soybean Farming
A6: 111110 | B6: Soybean Farming
A7: 11112 | B7: Oilseed (except Soybean) Farming
A8: 111120 | B8: Oilseed (except Soybean) Farming
A9: 11113 | B9: Dry Pea and Bean Farming
A10: 111130 | B10: Dry Pea and Bean Farming
A11: 11114 | B11: Wheat Farming
A12: 111140 | B12: Wheat Farming
A13: 11115 | B13: Corn Farming
A14: 111150 | B14: Corn Farming
A15: 11116 | B15: Rice Farming
... A2043: 92 | B2043: Public Administration

Sheet Investment Parameters
A1: Project Code Name:
A2: Company Name: (Should match W-9 and be the entity that provides financial documentation)
A3: Project Description:
A4: NAICS Code: (Should be NAICS code most appropriate to the product line or work that will be occurring at the site for this project)
A5: Company-wide employment (full-time):
A6: Existing employment in Virginia (full-time):
A7: % of sales coming from outside of Virginia:
A8: States or Countries which Virginia is Competing:
A9: Locality in Virginia under consideration:
A10: Expected project start date:
A11: Port User?
A12: Will project need infrastructure improvements? (Road, Rail)
... A16: Investment Parameters*
A18: Capital Investment Parameters | B18: Year 1 | C18: Year 2 | D18: Year 3 | E18: Year 4 | F18: Year 5 | G18: TOTAL
A19: Private Building/Land Acquisition** | G19: 0
A20: Public Building/Land Acquisition | G20: =SUM(B20:F20) -> 0
A21: Building Construction/Upfits | G21: =SUM(B21:F21) -> 0
A22: Production-Related Machinery and Tools | G22: =SUM(B22:F22) -> 0
A23: Personal Property - Furniture, Fixtures and Equipment | G23: =SUM(B23:F23) -> 0
A24: Total Qualifying Investment | B24: =SUM(B20:B23) -> 0 | C24: =SUM(C20:C23) -> 0 | D24: =SUM(D20:D23) -> 0 | E24: =SUM(E20:E23) -> 0 | F24: =SUM(F20:F23) -> 0 | G24: =SUM(G20:G23) -> 0
A25: Number of new employees (Full-time) | B25: ='New Employment Parameters'!C54 -> 0 | C25: ='New Employment Parameters'!G54 -> 0 | D25: ='New Employment Parameters'!K54 -> 0 | E25: ='New Employment Parameters'!O54 -> 0 | F25: ='New Employment Parameters'!S54 -> 0 | G25: =SUM(B25:F25) -> 0
A27: Average starting salary for new jobs: | B27: ='[1]New Employment Parameters'!E62 -> #DIV/0!
A29: *Some discretionary programs have a 36 month performance period (VJIP)
A30: **Private Building/Land acquisition does not count toward qualifying investment thresholds for discretionary programs

Sheet New Employment Parameters
A2: Description of the Benefits Package offered to employees (Health Insurance Benefits, PTO, etc.)
A4: Employment Parameters*
C6: Year 1 | G6: Year 2 | K6: Year 3 | O6: Year 4 | S6: Year 5
A7: JOB TYPE (List only positions offering standard fringe benefits) | C7: Projected # of Net New Full-time Employees Created in Year 1 | D7: Starting Salary (W-2 wages; no benefits included) | E7: Total W-2 Wages | F7: Employees offered Benefits? (Y/N) | G7: Projected # of Net New Full-time Employees Created in Year 2 | H7: Starting Salary (W-2 wages; no benefits included) | I7: Total W-2 Wages | J7: Employees offered Benefits? (Y/N) | K7: Projected # of Net New Full-time Employees Created in Year 3 | L7: Starting Salary (W-2 wages; no benefits included) | M7: Total W-2 Wages | N7: Employees offered Benefits? (Y/N) | O7: Projected # of Net New Full-time Employees Created in Year 4 | P7: Starting Salary (W-2 wages; no benefits included) | Q7: Total W-2 Wages | R7: Employees offered Benefits? (Y/N) | S7: Projected # of Net New Full-time Employees Created in Year 5 | T7: Starting Salary (W-2 wages; no benefits included) | U7: Total W-2 Wages | V7: Employees offered Benefits? (Y/N)
E9: =SUM(C9*D9) -> 0 | F9: Y | I9: =SUM(G9*H9) -> 0 | J9: Y | M9: =SUM(K9*L9) -> 0 | N9: Y | Q9: =SUM(O9*P9) -> 0 | R9: Y | U9: =SUM(S9*T9) -> 0 | V9: Y
E10: =SUM(C10*D10) -> 0 | F10: Y | I10: =SUM(G10*H10) -> 0 | J10: Y | M10: =SUM(K10*L10) -> 0 | N10: Y | Q10: =SUM(O10*P10) -> 0 | R10: Y | U10: =SUM(S10*T10) -> 0 | V10: Y
E11: =SUM(C11*D11) -> 0 | F11: Y | I11: =SUM(G11*H11) -> 0 | J11: Y | M11: =SUM(K11*L11) -> 0 | N11: Y | Q11: =SUM(O11*P11) -> 0 | R11: Y | U11: =SUM(S11*T11) -> 0 | V11: Y
E12: =SUM(C12*D12) -> 0 | F12: Y | I12: =SUM(G12*H12) -> 0 | J12: Y | M12: =SUM(K12*L12) -> 0 | N12: Y | Q12: =SUM(O12*P12) -> 0 | R12: Y | U12: =SUM(S12*T12) -> 0 | V12: Y
E13: =SUM(C13*D13) -> 0 | F13: Y | I13: =SUM(G13*H13) -> 0 | J13: Y | M13: =SUM(K13*L13) -> 0 | N13: Y | Q13: =SUM(O13*P13) -> 0 | R13: Y | U13: =SUM(S13*T13) -> 0 | V13: Y
E14: =SUM(C14*D14) -> 0 | F14: Y | I14: =SUM(G14*H14) -> 0 | J14: Y | M14: =SUM(K14*L14) -> 0 | N14: Y | Q14: =SUM(O14*P14) -> 0 | R14: Y | U14: =SUM(S14*T14) -> 0 | V14: Y
E15: =SUM(C15*D15) -> 0 | F15: Y | I15: =SUM(G15*H15) -> 0 | J15: Y | M15: =SUM(K15*L15) -> 0 | N15: Y | Q15: =SUM(O15*P15) -> 0 | R15: Y | U15: =SUM(S15*T15) -> 0 | V15: Y
E16: =SUM(C16*D16) -> 0 | F16: Y | I16: =SUM(G16*H16) -> 0 | J16: Y | M16: =SUM(K16*L16) -> 0 | N16: Y | Q16: =SUM(O16*P16) -> 0 | R16: Y | U16: =SUM(S16*T16) -> 0 | V16: Y
E17: =SUM(C17*D17) -> 0 | F17: Y | I17: =SUM(G17*H17) -> 0 | J17: Y | M17: =SUM(K17*L17) -> 0 | N17: Y | Q17: =SUM(O17*P17) -> 0 | R17: Y | U17: =SUM(S17*T17) -> 0 | V17: Y
E18: =C18*D18 -> 0 | F18: Y | I18: =G18*H18 -> 0 | J18: Y | M18: =K18*L18 -> 0 | N18: Y | Q18: =O18*P18 -> 0 | R18: Y | U18: =S18*T18 -> 0 | V18: Y
E19: =C19*D19 -> 0 | F19: Y | I19: =G19*H19 -> 0 | J19: Y | M19: =K19*L19 -> 0 | N19: Y | Q19: =O19*P19 -> 0 | R19: Y | U19: =S19*T19 -> 0 | V19: Y
E20: =C20*D20 -> 0 | F20: Y | I20: =G20*H20 -> 0 | J20: Y | M20: =K20*L20 -> 0 | N20: Y | Q20: =O20*P20 -> 0 | R20: Y | U20: =S20*T20 -> 0 | V20: Y
E21: =C21*D21 -> 0 | F21: Y | I21: =G21*H21 -> 0 | J21: Y | M21: =K21*L21 -> 0 | N21: Y | Q21: =O21*P21 -> 0 | R21: Y | U21: =S21*T21 -> 0 | V21: Y
E22: =C22*D22 -> 0 | F22: Y | I22: =G22*H22 -> 0 | J22: Y | M22: =K22*L22 -> 0 | N22: Y | Q22: =O22*P22 -> 0 | R22: Y | U22: =S22*T22 -> 0 | V22: Y
E23: =C23*D23 -> 0 | F23: Y | I23: =G23*H23 -> 0 | J23: Y | M23: =K23*L23 -> 0 | N23: Y | Q23: =O23*P23 -> 0 | R23: Y | U23: =S23*T23 -> 0 | V23: Y
E24: =C24*D24 -> 0 | F24: Y | I24: =G24*H24 -> 0 | J24: Y | M24: =K24*L24 -> 0 | N24: Y | Q24: =O24*P24 -> 0 | R24: Y | U24: =S24*T24 -> 0 | V24: Y
E25: =C25*D25 -> 0 | F25: Y | I25: =G25*H25 -> 0 | J25: Y | M25: =K25*L25 -> 0 | N25: Y | Q25: =O25*P25 -> 0 | R25: Y | U25: =S25*T25 -> 0 | V25: Y
E26: =C26*D26 -> 0 | F26: Y | I26: =G26*H26 -> 0 | J26: Y | M26: =K26*L26 -> 0 | N26: Y | Q26: =O26*P26 -> 0 | R26: Y | U26: =S26*T26 -> 0 | V26: Y
E27: =C27*D27 -> 0 | F27: Y | I27: =G27*H27 -> 0 | J27: Y | M27: =K27*L27 -> 0 | N27: Y | Q27: =O27*P27 -> 0 | R27: Y | U27: =S27*T27 -> 0 | V27: Y
E28: =C28*D28 -> 0 | F28: Y | I28: =G28*H28 -> 0 | J28: Y | M28: =K28*L28 -> 0 | N28: Y | Q28: =O28*P28 -> 0 | R28: Y | U28: =S28*T28 -> 0 | V28: Y
E29: =C29*D29 -> 0 | F29: Y | I29: =G29*H29 -> 0 | J29: Y | M29: =K29*L29 -> 0 | N29: Y | Q29: =O29*P29 -> 0 | R29: Y | U29: =S29*T29 -> 0 | V29: Y
E30: =C30*D30 -> 0 | F30: Y | I30: =G30*H30 -> 0 | J30: Y | M30: =K30*L30 -> 0 | N30: Y | Q30: =O30*P30 -> 0 | R30: Y | U30: =S30*T30 -> 0 | V30: Y
E31: =C31*D31 -> 0 | I31: =G31*H31 -> 0 | M31: =K31*L31 -> 0 | Q31: =O31*P31 -> 0 | U31: =S31*T31 -> 0
E32: =C32*D32 -> 0 | I32: =G32*H32 -> 0 | M32: =K32*L32 -> 0 | Q32: =O32*P32 -> 0 | U32: =S32*T32 -> 0
E33: =C33*D33 -> 0 | I33: =G33*H33 -> 0 | M33: =K33*L33 -> 0 | Q33: =O33*P33 -> 0 | U33: =S33*T33 -> 0
E34: =C34*D34 -> 0 | I34: =G34*H34 -> 0 | M34: =K34*L34 -> 0 | Q34: =O34*P34 -> 0 | U34: =S34*T34 -> 0
E35: =C35*D35 -> 0 | I35: =G35*H35 -> 0 | M35: =K35*L35 -> 0 | Q35: =O35*P35 -> 0 | U35: =S35*T35 -> 0
E36: =C36*D36 -> 0 | I36: =G36*H36 -> 0 | M36: =K36*L36 -> 0 | Q36: =O36*P36 -> 0 | U36: =S36*T36 -> 0
E37: =C37*D37 -> 0 | I37: =G37*H37 -> 0 | M37: =K37*L37 -> 0 | Q37: =O37*P37 -> 0 | U37: =S37*T37 -> 0
E38: =C38*D38 -> 0 | I38: =G38*H38 -> 0 | M38: =K38*L38 -> 0 | Q38: =O38*P38 -> 0 | U38: =S38*T38 -> 0
E39: =C39*D39 -> 0 | I39: =G39*H39 -> 0 | M39: =K39*L39 -> 0 | Q39: =O39*P39 -> 0 | U39: =S39*T39 -> 0
E40: =C40*D40 -> 0 | I40: =G40*H40 -> 0 | M40: =K40*L40 -> 0 | Q40: =O40*P40 -> 0 | U40: =S40*T40 -> 0
E41: =C41*D41 -> 0 | I41: =G41*H41 -> 0 | M41: =K41*L41 -> 0 | Q41: =O41*P41 -> 0 | U41: =S41*T41 -> 0
E42: =C42*D42 -> 0 | I42: =G42*H42 -> 0 | M42: =K42*L42 -> 0 | Q42: =O42*P42 -> 0 | U42: =S42*T42 -> 0
... E53: =C53*D53 -> 0 | I53: =G53*H53 -> 0 | M53: =K53*L53 -> 0 | Q53: =O53*P53 -> 0 | U53: =S53*T53 -> 0
A54: TOTAL | C54: =SUM(C9:C53) -> 0 | E54: =SUM(E9:E53) -> 0 | G54: =SUM(G9:G53) -> 0 | I54: =SUM(I9:I53) -> 0 | K54: =SUM(K9:K53) -> 0 | M54: =SUM(M9:M53) -> 0 | O54: =SUM(O9:O53) -> 0 | Q54: =SUM(Q9:Q53) -> 0 | S54: =SUM(S9:S53) -> 0 | U54: =SUM(U9:U53) -> 0
...
